BEGIN:VCALENDAR
VERSION:2.0
PRODID:icalendar-ruby
CALSCALE:GREGORIAN
METHOD:PUBLISH
BEGIN:VEVENT
DTSTAMP:20260424T190829Z
UID:34-742466@willow-springs.org
DTSTART:20261008T020000Z
DTEND:20261008T030000Z
CLASS:PUBLIC
CREATED:20260424T102203
DESCRIPTION:
LAST-MODIFIED:20260424T102203
LOCATION:WSMBC Youth Room
SUMMARY:GLOW Youth Ministry
URL;VALUE=URI:https://www.willow-springs.org/events/glow-youth-ministry/202
 6-10-07
ATTACH;FILENAME=GLOW.png;FMTTYPE=image/png:https://dq5pwpg1q8ru0.cloudfront
 .net/2025/11/20/16/51/52/b41f5cf8-fe87-4c5b-838a-03e6d313dedb/GLOW.png
END:VEVENT
END:VCALENDAR
