BEGIN:VCALENDAR
VERSION:2.0
PRODID:icalendar-ruby
CALSCALE:GREGORIAN
METHOD:PUBLISH
BEGIN:VEVENT
DTSTAMP:20260424T163650Z
UID:34-741848@willow-springs.org
DTSTART:20260924T020000Z
DTEND:20260924T030000Z
CLASS:PUBLIC
CREATED:20260424T073406
DESCRIPTION:
LAST-MODIFIED:20260424T073406
LOCATION:WSMBC Youth Room
SUMMARY:GLOW Youth Ministry
URL;VALUE=URI:https://www.willow-springs.org/events/glow-youth-ministry/202
 6-09-23
ATTACH;FILENAME=GLOW.png;FMTTYPE=image/png:https://dq5pwpg1q8ru0.cloudfront
 .net/2025/11/20/16/51/52/b41f5cf8-fe87-4c5b-838a-03e6d313dedb/GLOW.png
END:VEVENT
END:VCALENDAR
